BEGIN:VCALENDAR
VERSION:2.0
PRODID:-//New Chamber Singers - ECPv6.15.20//NONSGML v1.0//EN
CALSCALE:GREGORIAN
METHOD:PUBLISH
X-WR-CALNAME:New Chamber Singers
X-ORIGINAL-URL:https://newchambersingers.com/it
X-WR-CALDESC:Eventi per New Chamber Singers
REFRESH-INTERVAL;VALUE=DURATION:PT1H
X-Robots-Tag:noindex
X-PUBLISHED-TTL:PT1H
BEGIN:VTIMEZONE
TZID:Europe/Rome
BEGIN:DAYLIGHT
TZOFFSETFROM:+0100
TZOFFSETTO:+0200
TZNAME:CEST
DTSTART:20250330T010000
END:DAYLIGHT
BEGIN:STANDARD
TZOFFSETFROM:+0200
TZOFFSETTO:+0100
TZNAME:CET
DTSTART:20251026T010000
END:STANDARD
BEGIN:DAYLIGHT
TZOFFSETFROM:+0100
TZOFFSETTO:+0200
TZNAME:CEST
DTSTART:20260329T010000
END:DAYLIGHT
BEGIN:STANDARD
TZOFFSETFROM:+0200
TZOFFSETTO:+0100
TZNAME:CET
DTSTART:20261025T010000
END:STANDARD
BEGIN:DAYLIGHT
TZOFFSETFROM:+0100
TZOFFSETTO:+0200
TZNAME:CEST
DTSTART:20270328T010000
END:DAYLIGHT
BEGIN:STANDARD
TZOFFSETFROM:+0200
TZOFFSETTO:+0100
TZNAME:CET
DTSTART:20271031T010000
END:STANDARD
END:VTIMEZONE
BEGIN:VEVENT
DTSTART;TZID=Europe/Rome:20260505T184500
DTEND;TZID=Europe/Rome:20260505T211500
DTSTAMP:20260423T225732
CREATED:20260316T145151Z
LAST-MODIFIED:20260316T145600Z
UID:1266-1778006700-1778015700@newchambersingers.com
SUMMARY:Rehearsal 5th May
DESCRIPTION:Contenuto protetto.
URL:https://newchambersingers.com/it/event/rehearsal-28th-april-2/
LOCATION:All Saints Church\, via del Babuino 153\, Roma\, Roma\, Italy
CATEGORIES:Rehearsal
END:VEVENT
BEGIN:VEVENT
DTSTART;TZID=Europe/Rome:20260902T000000
DTEND;TZID=Europe/Rome:20260907T235959
DTSTAMP:20260423T225732
CREATED:20260118T184918Z
LAST-MODIFIED:20260118T184918Z
UID:1280-1788307200-1788825599@newchambersingers.com
SUMMARY:NCS British Tour
DESCRIPTION:Contenuto protetto.
URL:https://newchambersingers.com/it/event/ncs-british-tour/
LOCATION:All Saints Church\, via del Babuino 153\, Roma\, Roma\, Italy
CATEGORIES:Rehearsal
END:VEVENT
END:VCALENDAR