BEGIN:VCALENDAR
VERSION:2.0
PRODID:-//New Chamber Singers - ECPv6.15.20//NONSGML v1.0//EN
CALSCALE:GREGORIAN
METHOD:PUBLISH
X-WR-CALNAME:New Chamber Singers
X-ORIGINAL-URL:https://newchambersingers.com/it
X-WR-CALDESC:Eventi per New Chamber Singers
REFRESH-INTERVAL;VALUE=DURATION:PT1H
X-Robots-Tag:noindex
X-PUBLISHED-TTL:PT1H
BEGIN:VTIMEZONE
TZID:Europe/Rome
BEGIN:DAYLIGHT
TZOFFSETFROM:+0100
TZOFFSETTO:+0200
TZNAME:CEST
DTSTART:20240331T010000
END:DAYLIGHT
BEGIN:STANDARD
TZOFFSETFROM:+0200
TZOFFSETTO:+0100
TZNAME:CET
DTSTART:20241027T010000
END:STANDARD
BEGIN:DAYLIGHT
TZOFFSETFROM:+0100
TZOFFSETTO:+0200
TZNAME:CEST
DTSTART:20250330T010000
END:DAYLIGHT
BEGIN:STANDARD
TZOFFSETFROM:+0200
TZOFFSETTO:+0100
TZNAME:CET
DTSTART:20251026T010000
END:STANDARD
BEGIN:DAYLIGHT
TZOFFSETFROM:+0100
TZOFFSETTO:+0200
TZNAME:CEST
DTSTART:20260329T010000
END:DAYLIGHT
BEGIN:STANDARD
TZOFFSETFROM:+0200
TZOFFSETTO:+0100
TZNAME:CET
DTSTART:20261025T010000
END:STANDARD
END:VTIMEZONE
BEGIN:VEVENT
DTSTART;TZID=Europe/Rome:20250520T190000
DTEND;TZID=Europe/Rome:20250520T213000
DTSTAMP:20260425T133633
CREATED:20241219T180941Z
LAST-MODIFIED:20241219T180941Z
UID:460-1747767600-1747776600@newchambersingers.com
SUMMARY:Rehearsal
DESCRIPTION:Contenuto protetto.
URL:https://newchambersingers.com/it/event/rehearsal-31/
LOCATION:All Saints Church\, via del Babuino 153\, Roma\, Roma\, Italy
CATEGORIES:Rehearsal
END:VEVENT
BEGIN:VEVENT
DTSTART;TZID=Europe/Rome:20250527T190000
DTEND;TZID=Europe/Rome:20250527T213000
DTSTAMP:20260425T133633
CREATED:20241219T181129Z
LAST-MODIFIED:20241219T181640Z
UID:462-1748372400-1748381400@newchambersingers.com
SUMMARY:Rehearsal with Ex Collegio Choir
DESCRIPTION:Contenuto protetto.
URL:https://newchambersingers.com/it/event/rehearsal-32/
LOCATION:All Saints Church\, via del Babuino 153\, Roma\, Roma\, Italy
CATEGORIES:Rehearsal
END:VEVENT
BEGIN:VEVENT
DTSTART;TZID=Europe/Rome:20250528T180000
DTEND;TZID=Europe/Rome:20250528T210000
DTSTAMP:20260425T133633
CREATED:20241219T181612Z
LAST-MODIFIED:20241219T181612Z
UID:464-1748455200-1748466000@newchambersingers.com
SUMMARY:Ex Collegio rehearsal
DESCRIPTION:Contenuto protetto.
URL:https://newchambersingers.com/it/event/ex-collegio-rehearsal/
LOCATION:All Saints Church\, via del Babuino 153\, Roma\, Roma\, Italy
CATEGORIES:Rehearsal
END:VEVENT
BEGIN:VEVENT
DTSTART;TZID=Europe/Rome:20250529T190000
DTEND;TZID=Europe/Rome:20250529T213000
DTSTAMP:20260425T133633
CREATED:20241219T181757Z
LAST-MODIFIED:20241219T181757Z
UID:468-1748545200-1748554200@newchambersingers.com
SUMMARY:Rehearsal with Ex Collegio Choir
DESCRIPTION:Contenuto protetto.
URL:https://newchambersingers.com/it/event/rehearsal-with-ex-collegio-choir/
CATEGORIES:Rehearsal
END:VEVENT
BEGIN:VEVENT
DTSTART;TZID=Europe/Rome:20250531T130000
DTEND;TZID=Europe/Rome:20250531T143000
DTSTAMP:20260425T133633
CREATED:20241219T182336Z
LAST-MODIFIED:20241219T182336Z
UID:470-1748696400-1748701800@newchambersingers.com
SUMMARY:Dress rehearsal at the Basilica
DESCRIPTION:Contenuto protetto.
URL:https://newchambersingers.com/it/event/dress-rehearsal-at-the-basilica/
LOCATION:Basilica di San Paolo Fuori le Mura\, Piazzale San Paolo\, 1a\, Roma\, RM\, 00146\, Italy
CATEGORIES:Rehearsal
END:VEVENT
BEGIN:VEVENT
DTSTART;TZID=Europe/Rome:20250531T150000
DTEND;TZID=Europe/Rome:20250531T160000
DTSTAMP:20260425T133633
CREATED:20241219T182546Z
LAST-MODIFIED:20250301T164112Z
UID:472-1748703600-1748707200@newchambersingers.com
SUMMARY:Concert: Dvorak Mass in D
DESCRIPTION:
URL:https://newchambersingers.com/it/event/concert-dvorak-mass-in-d/
LOCATION:Basilica di San Paolo Fuori le Mura\, Piazzale San Paolo\, 1a\, Roma\, RM\, 00146\, Italy
CATEGORIES:Concert
END:VEVENT
BEGIN:VEVENT
DTSTART;TZID=Europe/Rome:20250601T090000
DTEND;TZID=Europe/Rome:20250601T120000
DTSTAMP:20260425T133633
CREATED:20250115T100138Z
LAST-MODIFIED:20250115T100140Z
UID:488-1748768400-1748779200@newchambersingers.com
SUMMARY:Holy Communion at All Saints
DESCRIPTION:Ex Collegio will sing the mass. They will announce the music soon. NCS members who know the music are invited to join them.
URL:https://newchambersingers.com/it/event/holy-communion-at-all-saints/
LOCATION:All Saints Church\, via del Babuino 153\, Roma\, Roma\, Italy
CATEGORIES:Sung Eucharist
END:VEVENT
BEGIN:VEVENT
DTSTART;TZID=Europe/Rome:20250601T160000
DTEND;TZID=Europe/Rome:20250601T173000
DTSTAMP:20260425T133633
CREATED:20241219T190041Z
LAST-MODIFIED:20250301T164031Z
UID:479-1748793600-1748799000@newchambersingers.com
SUMMARY:Dress Rehearsal: Sacred Music from Eastern Europe
DESCRIPTION:Contenuto protetto.
URL:https://newchambersingers.com/it/event/dress-rehearsal-for-music-from-the-steppe/
LOCATION:St Paul’s Within the Walls
CATEGORIES:Rehearsal
END:VEVENT
BEGIN:VEVENT
DTSTART;TZID=Europe/Rome:20250601T183000
DTEND;TZID=Europe/Rome:20250601T200000
DTSTAMP:20260425T133633
CREATED:20241219T185920Z
LAST-MODIFIED:20250301T163931Z
UID:477-1748802600-1748808000@newchambersingers.com
SUMMARY:Concert: Sacred music from Eastern Europe
DESCRIPTION:
URL:https://newchambersingers.com/it/event/concert-music-from-the-steppe/
LOCATION:St Paul’s Within the Walls
CATEGORIES:Concert
END:VEVENT
BEGIN:VEVENT
DTSTART;TZID=Europe/Rome:20250909T184500
DTEND;TZID=Europe/Rome:20250909T211500
DTSTAMP:20260425T133633
CREATED:20250801T104622Z
LAST-MODIFIED:20250801T104622Z
UID:372-1757443500-1757452500@newchambersingers.com
SUMMARY:Rehearsal 9th September
DESCRIPTION:Contenuto protetto.
URL:https://newchambersingers.com/it/event/rehearsal-9th-september/
LOCATION:All Saints Church\, via del Babuino 153\, Roma\, Roma\, Italy
CATEGORIES:Rehearsal
END:VEVENT
BEGIN:VEVENT
DTSTART;TZID=Europe/Rome:20250916T184500
DTEND;TZID=Europe/Rome:20250916T211500
DTSTAMP:20260425T133633
CREATED:20250801T104744Z
LAST-MODIFIED:20250801T104744Z
UID:624-1758048300-1758057300@newchambersingers.com
SUMMARY:Rehearsal 16th September
DESCRIPTION:Contenuto protetto.
URL:https://newchambersingers.com/it/event/rehearsal-16th-september/
LOCATION:All Saints Church\, via del Babuino 153\, Roma\, Roma\, Italy
CATEGORIES:Rehearsal
END:VEVENT
BEGIN:VEVENT
DTSTART;TZID=Europe/Rome:20250923T184500
DTEND;TZID=Europe/Rome:20250923T211500
DTSTAMP:20260425T133633
CREATED:20250801T104846Z
LAST-MODIFIED:20250916T105806Z
UID:626-1758653100-1758662100@newchambersingers.com
SUMMARY:Rehearsal 23rd September
DESCRIPTION:Contenuto protetto.
URL:https://newchambersingers.com/it/event/rehearsal-23rd-september/
LOCATION:All Saints Church\, via del Babuino 153\, Roma\, Roma\, Italy
CATEGORIES:Rehearsal
END:VEVENT
BEGIN:VEVENT
DTSTART;TZID=Europe/Rome:20250930T184500
DTEND;TZID=Europe/Rome:20250930T211500
DTSTAMP:20260425T133633
CREATED:20250801T104931Z
LAST-MODIFIED:20250801T104931Z
UID:628-1759257900-1759266900@newchambersingers.com
SUMMARY:Rehearsal 30th September
DESCRIPTION:Contenuto protetto.
URL:https://newchambersingers.com/it/event/rehearsal-30th-september/
LOCATION:All Saints Church\, via del Babuino 153\, Roma\, Roma\, Italy
CATEGORIES:Rehearsal
END:VEVENT
BEGIN:VEVENT
DTSTART;TZID=Europe/Rome:20251007T184500
DTEND;TZID=Europe/Rome:20251007T211500
DTSTAMP:20260425T133633
CREATED:20250801T105019Z
LAST-MODIFIED:20250801T105019Z
UID:630-1759862700-1759871700@newchambersingers.com
SUMMARY:Rehearsal 7th October
DESCRIPTION:Contenuto protetto.
URL:https://newchambersingers.com/it/event/rehearsal-7th-october/
LOCATION:All Saints Church\, via del Babuino 153\, Roma\, Roma\, Italy
CATEGORIES:Rehearsal
END:VEVENT
BEGIN:VEVENT
DTSTART;TZID=Europe/Rome:20251014T184500
DTEND;TZID=Europe/Rome:20251014T211500
DTSTAMP:20260425T133633
CREATED:20250801T105051Z
LAST-MODIFIED:20250916T105859Z
UID:632-1760467500-1760476500@newchambersingers.com
SUMMARY:Rehearsal 14th October
DESCRIPTION:Contenuto protetto.
URL:https://newchambersingers.com/it/event/rehearsal-14th-october/
LOCATION:All Saints Church\, via del Babuino 153\, Roma\, Roma\, Italy
CATEGORIES:Rehearsal
END:VEVENT
BEGIN:VEVENT
DTSTART;TZID=Europe/Rome:20251021T184500
DTEND;TZID=Europe/Rome:20251021T211500
DTSTAMP:20260425T133633
CREATED:20250801T105134Z
LAST-MODIFIED:20250801T105134Z
UID:634-1761072300-1761081300@newchambersingers.com
SUMMARY:Rehearsal 21st October
DESCRIPTION:Contenuto protetto.
URL:https://newchambersingers.com/it/event/rehearsal-21st-october/
LOCATION:All Saints Church\, via del Babuino 153\, Roma\, Roma\, Italy
CATEGORIES:Rehearsal
END:VEVENT
BEGIN:VEVENT
DTSTART;TZID=Europe/Rome:20251028T184500
DTEND;TZID=Europe/Rome:20251028T211500
DTSTAMP:20260425T133633
CREATED:20250801T105208Z
LAST-MODIFIED:20250801T105208Z
UID:636-1761677100-1761686100@newchambersingers.com
SUMMARY:Rehearsal 28th October
DESCRIPTION:Contenuto protetto.
URL:https://newchambersingers.com/it/event/rehearsal-28th-october/
LOCATION:All Saints Church\, via del Babuino 153\, Roma\, Roma\, Italy
CATEGORIES:Rehearsal
END:VEVENT
BEGIN:VEVENT
DTSTART;TZID=Europe/Rome:20251030T190000
DTEND;TZID=Europe/Rome:20251030T213000
DTSTAMP:20260425T133633
CREATED:20251024T100248Z
LAST-MODIFIED:20251024T100724Z
UID:1101-1761850800-1761859800@newchambersingers.com
SUMMARY:Rehearsal 30th October
DESCRIPTION:Contenuto protetto.
URL:https://newchambersingers.com/it/event/rehearsal-30th-october/
LOCATION:All Saints Church\, via del Babuino 153\, Roma\, Roma\, Italy
CATEGORIES:Rehearsal
END:VEVENT
BEGIN:VEVENT
DTSTART;TZID=Europe/Rome:20251101T100000
DTEND;TZID=Europe/Rome:20251101T130000
DTSTAMP:20260425T133633
CREATED:20250916T110209Z
LAST-MODIFIED:20251024T100433Z
UID:705-1761991200-1762002000@newchambersingers.com
SUMMARY:Dress Rehearsal 1st November
DESCRIPTION:Contenuto protetto.
URL:https://newchambersingers.com/it/event/dress-rehearsal-1st-november/
LOCATION:St Paul’s Within the Walls
CATEGORIES:Rehearsal
END:VEVENT
BEGIN:VEVENT
DTSTART;TZID=Europe/Rome:20251102T160000
DTEND;TZID=Europe/Rome:20251102T173000
DTSTAMP:20260425T133633
CREATED:20251024T100657Z
LAST-MODIFIED:20251024T100657Z
UID:1103-1762099200-1762104600@newchambersingers.com
SUMMARY:Warm Up before concert
DESCRIPTION:Contenuto protetto.
URL:https://newchambersingers.com/it/event/warm-up-before-concert/
LOCATION:St Paul’s Within the Walls
CATEGORIES:Rehearsal
END:VEVENT
BEGIN:VEVENT
DTSTART;TZID=Europe/Rome:20251102T183000
DTEND;TZID=Europe/Rome:20251102T200000
DTSTAMP:20260425T133633
CREATED:20250801T142748Z
LAST-MODIFIED:20250801T151856Z
UID:640-1762108200-1762113600@newchambersingers.com
SUMMARY:Concert: Franck: Les sept paroles du Christ en croix
DESCRIPTION:Together with the Orchester Christian-Ernst-Gymnasium\, Erlangen\, Germany\, director Andreas Englhardt
URL:https://newchambersingers.com/it/event/concert-franck-les-sept-paroles-du-christ-en-croix/
LOCATION:St Paul’s Within the Walls
CATEGORIES:Concert
END:VEVENT
BEGIN:VEVENT
DTSTART;TZID=Europe/Rome:20251104T184500
DTEND;TZID=Europe/Rome:20251104T211500
DTSTAMP:20260425T133633
CREATED:20250916T110301Z
LAST-MODIFIED:20250916T110324Z
UID:707-1762281900-1762290900@newchambersingers.com
SUMMARY:Rehearsal 4th November
DESCRIPTION:Contenuto protetto.
URL:https://newchambersingers.com/it/event/rehearsal-28th-october-2/
LOCATION:All Saints Church\, via del Babuino 153\, Roma\, Roma\, Italy
CATEGORIES:Rehearsal
END:VEVENT
BEGIN:VEVENT
DTSTART;TZID=Europe/Rome:20251111T184500
DTEND;TZID=Europe/Rome:20251111T211500
DTSTAMP:20260425T133633
CREATED:20250916T110436Z
LAST-MODIFIED:20250916T110436Z
UID:710-1762886700-1762895700@newchambersingers.com
SUMMARY:Rehearsal 11th November
DESCRIPTION:Contenuto protetto.
URL:https://newchambersingers.com/it/event/rehearsal-11th-november/
LOCATION:All Saints Church\, via del Babuino 153\, Roma\, Roma\, Italy
CATEGORIES:Rehearsal
END:VEVENT
BEGIN:VEVENT
DTSTART;TZID=Europe/Rome:20251118T184500
DTEND;TZID=Europe/Rome:20251118T211500
DTSTAMP:20260425T133633
CREATED:20250916T110521Z
LAST-MODIFIED:20250916T110521Z
UID:712-1763491500-1763500500@newchambersingers.com
SUMMARY:Rehearsal 18th November
DESCRIPTION:Contenuto protetto.
URL:https://newchambersingers.com/it/event/rehearsal-18th-november/
LOCATION:All Saints Church\, via del Babuino 153\, Roma\, Roma\, Italy
CATEGORIES:Rehearsal
END:VEVENT
BEGIN:VEVENT
DTSTART;TZID=Europe/Rome:20251122T100000
DTEND;TZID=Europe/Rome:20251122T121500
DTSTAMP:20260425T133633
CREATED:20251024T102503Z
LAST-MODIFIED:20251024T102503Z
UID:1105-1763805600-1763813700@newchambersingers.com
SUMMARY:Workshop 22nd November at Santa Lucia
DESCRIPTION:Contenuto protetto.
URL:https://newchambersingers.com/it/event/workshop-22nd-november-at-santa-lucia/
LOCATION:Santa Lucia\, Rome\, via di Santa Lucia 5\, Roma\, 00195\, Italy
CATEGORIES:Rehearsal
END:VEVENT
BEGIN:VEVENT
DTSTART;TZID=Europe/Rome:20251125T184500
DTEND;TZID=Europe/Rome:20251125T211500
DTSTAMP:20260425T133633
CREATED:20250916T110609Z
LAST-MODIFIED:20250916T110609Z
UID:714-1764096300-1764105300@newchambersingers.com
SUMMARY:Rehearsal 25th November
DESCRIPTION:Contenuto protetto.
URL:https://newchambersingers.com/it/event/rehearsal-25th-november/
LOCATION:All Saints Church\, via del Babuino 153\, Roma\, Roma\, Italy
CATEGORIES:Rehearsal
END:VEVENT
BEGIN:VEVENT
DTSTART;TZID=Europe/Rome:20251202T184500
DTEND;TZID=Europe/Rome:20251202T211500
DTSTAMP:20260425T133633
CREATED:20250916T110648Z
LAST-MODIFIED:20250916T110922Z
UID:716-1764701100-1764710100@newchambersingers.com
SUMMARY:Rehearsal 2nd December
DESCRIPTION:Contenuto protetto.
URL:https://newchambersingers.com/it/event/rehearsal-25th-november-2/
LOCATION:All Saints Church\, via del Babuino 153\, Roma\, Roma\, Italy
CATEGORIES:Rehearsal
END:VEVENT
BEGIN:VEVENT
DTSTART;TZID=Europe/Rome:20251204T190000
DTEND;TZID=Europe/Rome:20251204T210000
DTSTAMP:20260425T133633
CREATED:20250916T111215Z
LAST-MODIFIED:20251127T110846Z
UID:723-1764874800-1764882000@newchambersingers.com
SUMMARY:Extra Rehearsal 4th December
DESCRIPTION:Contenuto protetto.
URL:https://newchambersingers.com/it/event/dress-rehearsal-13th-december/
LOCATION:Santa Lucia\, Rome\, via di Santa Lucia 5\, Roma\, 00195\, Italy
CATEGORIES:Rehearsal
END:VEVENT
BEGIN:VEVENT
DTSTART;TZID=Europe/Rome:20251209T184500
DTEND;TZID=Europe/Rome:20251209T211500
DTSTAMP:20260425T133633
CREATED:20250916T111015Z
LAST-MODIFIED:20250916T111015Z
UID:719-1765305900-1765314900@newchambersingers.com
SUMMARY:Rehearsal 9th December
DESCRIPTION:Contenuto protetto.
URL:https://newchambersingers.com/it/event/rehearsal-9th-december/
LOCATION:All Saints Church\, via del Babuino 153\, Roma\, Roma\, Italy
CATEGORIES:Rehearsal
END:VEVENT
BEGIN:VEVENT
DTSTART;TZID=Europe/Rome:20251214T174500
DTEND;TZID=Europe/Rome:20251214T190000
DTSTAMP:20260425T133633
CREATED:20250801T152706Z
LAST-MODIFIED:20250903T215243Z
UID:647-1765734300-1765738800@newchambersingers.com
SUMMARY:Concert: Christmas/Advent
DESCRIPTION:A program contrasting the serene movements of the Missa and motet “O Magnum Mysterium” by Palestrina with the Christmas creations of more recent composers: Ord\, Walford Davies\, Tavener\, Warlock\, Holst and Britten.
URL:https://newchambersingers.com/it/event/concert-advent/
LOCATION:Santa Lucia\, Rome\, via di Santa Lucia 5\, Roma\, 00195\, Italy
CATEGORIES:Concert
END:VEVENT
END:VCALENDAR