BEGIN:VCALENDAR
VERSION:2.0
PRODID:-//New Chamber Singers - ECPv6.15.20//NONSGML v1.0//EN
CALSCALE:GREGORIAN
METHOD:PUBLISH
X-WR-CALNAME:New Chamber Singers
X-ORIGINAL-URL:https://newchambersingers.com/it
X-WR-CALDESC:Eventi per New Chamber Singers
REFRESH-INTERVAL;VALUE=DURATION:PT1H
X-Robots-Tag:noindex
X-PUBLISHED-TTL:PT1H
BEGIN:VTIMEZONE
TZID:Europe/Rome
BEGIN:DAYLIGHT
TZOFFSETFROM:+0100
TZOFFSETTO:+0200
TZNAME:CEST
DTSTART:20230326T010000
END:DAYLIGHT
BEGIN:STANDARD
TZOFFSETFROM:+0200
TZOFFSETTO:+0100
TZNAME:CET
DTSTART:20231029T010000
END:STANDARD
BEGIN:DAYLIGHT
TZOFFSETFROM:+0100
TZOFFSETTO:+0200
TZNAME:CEST
DTSTART:20240331T010000
END:DAYLIGHT
BEGIN:STANDARD
TZOFFSETFROM:+0200
TZOFFSETTO:+0100
TZNAME:CET
DTSTART:20241027T010000
END:STANDARD
BEGIN:DAYLIGHT
TZOFFSETFROM:+0100
TZOFFSETTO:+0200
TZNAME:CEST
DTSTART:20250330T010000
END:DAYLIGHT
BEGIN:STANDARD
TZOFFSETFROM:+0200
TZOFFSETTO:+0100
TZNAME:CET
DTSTART:20251026T010000
END:STANDARD
BEGIN:DAYLIGHT
TZOFFSETFROM:+0100
TZOFFSETTO:+0200
TZNAME:CEST
DTSTART:20260329T010000
END:DAYLIGHT
BEGIN:STANDARD
TZOFFSETFROM:+0200
TZOFFSETTO:+0100
TZNAME:CET
DTSTART:20261025T010000
END:STANDARD
END:VTIMEZONE
BEGIN:VEVENT
DTSTART;TZID=Europe/Rome:20241110T093000
DTEND;TZID=Europe/Rome:20241110T120000
DTSTAMP:20260425T171736
CREATED:20240905T201016Z
LAST-MODIFIED:20240914T145828Z
UID:153-1731231000-1731240000@newchambersingers.com
SUMMARY:Remembrance Sunday: All Saints: 10:30
DESCRIPTION:
URL:https://newchambersingers.com/it/event/holy-communion/
LOCATION:All Saints Church\, via del Babuino 153\, Roma\, Roma\, Italy
CATEGORIES:Sung Eucharist
END:VEVENT
BEGIN:VEVENT
DTSTART;TZID=Europe/Rome:20241112T190000
DTEND;TZID=Europe/Rome:20241112T210000
DTSTAMP:20260425T171736
CREATED:20240905T201254Z
LAST-MODIFIED:20240919T103127Z
UID:158-1731438000-1731445200@newchambersingers.com
SUMMARY:Rehearsal
DESCRIPTION:Contenuto protetto.
URL:https://newchambersingers.com/it/event/rehearsal-9/
LOCATION:All Saints Church\, via del Babuino 153\, Roma\, Roma\, Italy
CATEGORIES:Rehearsal
END:VEVENT
BEGIN:VEVENT
DTSTART;TZID=Europe/Rome:20241116T150000
DTEND;TZID=Europe/Rome:20241116T180000
DTSTAMP:20260425T171736
CREATED:20240919T102805Z
LAST-MODIFIED:20240919T102805Z
UID:308-1731769200-1731780000@newchambersingers.com
SUMMARY:Workshop 2
DESCRIPTION:Contenuto protetto.
URL:https://newchambersingers.com/it/event/workshop-2/
LOCATION:All Saints Church\, via del Babuino 153\, Roma\, Roma\, Italy
CATEGORIES:Rehearsal
END:VEVENT
BEGIN:VEVENT
DTSTART;TZID=Europe/Rome:20241119T190000
DTEND;TZID=Europe/Rome:20241119T210000
DTSTAMP:20260425T171736
CREATED:20240905T201357Z
LAST-MODIFIED:20240919T103101Z
UID:160-1732042800-1732050000@newchambersingers.com
SUMMARY:Rehearsal
DESCRIPTION:Contenuto protetto.
URL:https://newchambersingers.com/it/event/rehearsal-10/
LOCATION:All Saints Church\, via del Babuino 153\, Roma\, Roma\, Italy
CATEGORIES:Rehearsal
END:VEVENT
BEGIN:VEVENT
DTSTART;TZID=Europe/Rome:20241126T184500
DTEND;TZID=Europe/Rome:20241126T204500
DTSTAMP:20260425T171736
CREATED:20240905T201436Z
LAST-MODIFIED:20241120T203000Z
UID:162-1732646700-1732653900@newchambersingers.com
SUMMARY:Rehearsal
DESCRIPTION:Contenuto protetto.
URL:https://newchambersingers.com/it/event/rehearsal-11/
LOCATION:All Saints Church\, via del Babuino 153\, Roma\, Roma\, Italy
CATEGORIES:Rehearsal
END:VEVENT
BEGIN:VEVENT
DTSTART;TZID=Europe/Rome:20241203T184500
DTEND;TZID=Europe/Rome:20241203T204500
DTSTAMP:20260425T171736
CREATED:20241120T203157Z
LAST-MODIFIED:20241128T171214Z
UID:398-1733251500-1733258700@newchambersingers.com
SUMMARY:Rehearsal (a cappella pieces)
DESCRIPTION:Contenuto protetto.
URL:https://newchambersingers.com/it/event/rehearsal-24/
LOCATION:All Saints Church\, via del Babuino 153\, Roma\, Roma\, Italy
CATEGORIES:Rehearsal
END:VEVENT
BEGIN:VEVENT
DTSTART;TZID=Europe/Rome:20241205T184500
DTEND;TZID=Europe/Rome:20241205T204500
DTSTAMP:20260425T171736
CREATED:20240905T201554Z
LAST-MODIFIED:20241128T171252Z
UID:164-1733424300-1733431500@newchambersingers.com
SUMMARY:Rehearsal (a cappella pieces)
DESCRIPTION:Contenuto protetto.
URL:https://newchambersingers.com/it/event/rehearsal-with-alice/
LOCATION:All Saints Church\, via del Babuino 153\, Roma\, Roma\, Italy
CATEGORIES:Rehearsal
END:VEVENT
BEGIN:VEVENT
DTSTART;TZID=Europe/Rome:20241207T140000
DTEND;TZID=Europe/Rome:20241207T180000
DTSTAMP:20260425T171736
CREATED:20240905T201729Z
LAST-MODIFIED:20241128T170844Z
UID:166-1733580000-1733594400@newchambersingers.com
SUMMARY:Rehearsal (accompanied pieces)
DESCRIPTION:Contenuto protetto.
URL:https://newchambersingers.com/it/event/rehearsal-with-alice-2/
LOCATION:St Paul’s Within the Walls
CATEGORIES:Rehearsal
END:VEVENT
BEGIN:VEVENT
DTSTART;TZID=Europe/Rome:20241208T093000
DTEND;TZID=Europe/Rome:20241208T103000
DTSTAMP:20260425T171736
CREATED:20241114T181058Z
LAST-MODIFIED:20241114T181941Z
UID:364-1733650200-1733653800@newchambersingers.com
SUMMARY:Rehearsal for Holy Communion
DESCRIPTION:Contenuto protetto.
URL:https://newchambersingers.com/it/event/rehearsal-for-holy-communion/
LOCATION:St Paul’s Within the Walls
CATEGORIES:Rehearsal
END:VEVENT
BEGIN:VEVENT
DTSTART;TZID=Europe/Rome:20241208T103000
DTEND;TZID=Europe/Rome:20241208T120000
DTSTAMP:20260425T171736
CREATED:20240905T202010Z
LAST-MODIFIED:20241114T180954Z
UID:172-1733653800-1733659200@newchambersingers.com
SUMMARY:Holy Communion: St. Paul's: 10:30
DESCRIPTION:
URL:https://newchambersingers.com/it/event/holy-communion-1030/
LOCATION:St Paul’s Within the Walls
CATEGORIES:Sung Eucharist
END:VEVENT
BEGIN:VEVENT
DTSTART;TZID=Europe/Rome:20241208T170000
DTEND;TZID=Europe/Rome:20241208T183000
DTSTAMP:20260425T171736
CREATED:20241114T181226Z
LAST-MODIFIED:20241114T181908Z
UID:366-1733677200-1733682600@newchambersingers.com
SUMMARY:Rehearsal for Advent Concert
DESCRIPTION:Contenuto protetto.
URL:https://newchambersingers.com/it/event/rehearsal-for-advent-concert/
LOCATION:All Saints Church\, via del Babuino 153\, Roma\, Roma\, Italy
CATEGORIES:Rehearsal
END:VEVENT
BEGIN:VEVENT
DTSTART;TZID=Europe/Rome:20241208T190000
DTEND;TZID=Europe/Rome:20241208T203000
DTSTAMP:20260425T171736
CREATED:20240905T202146Z
LAST-MODIFIED:20241114T180929Z
UID:174-1733684400-1733689800@newchambersingers.com
SUMMARY:Advent Concert: All Saints: 19:00
DESCRIPTION:
URL:https://newchambersingers.com/it/event/christmas-concert-1900/
LOCATION:All Saints Church\, via del Babuino 153\, Roma\, Roma\, Italy
CATEGORIES:Concert
END:VEVENT
BEGIN:VEVENT
DTSTART;TZID=Europe/Rome:20241210T190000
DTEND;TZID=Europe/Rome:20241210T213000
DTSTAMP:20260425T171736
CREATED:20241219T190458Z
LAST-MODIFIED:20241219T190458Z
UID:482-1733857200-1733866200@newchambersingers.com
SUMMARY:Rehearsal
DESCRIPTION:Contenuto protetto.
URL:https://newchambersingers.com/it/event/rehearsal-33/
LOCATION:All Saints Church\, via del Babuino 153\, Roma\, Roma\, Italy
CATEGORIES:Rehearsal
END:VEVENT
BEGIN:VEVENT
DTSTART;TZID=Europe/Rome:20241215T153000
DTEND;TZID=Europe/Rome:20241215T173000
DTSTAMP:20260425T171736
CREATED:20241114T181354Z
LAST-MODIFIED:20241214T095553Z
UID:368-1734276600-1734283800@newchambersingers.com
SUMMARY:Rehearsal for Nine Lessons and Carols
DESCRIPTION:Contenuto protetto.
URL:https://newchambersingers.com/it/event/rehearsal-for-nine-lessons-and-carols/
LOCATION:All Saints Church\, via del Babuino 153\, Roma\, Roma\, Italy
CATEGORIES:Rehearsal
END:VEVENT
BEGIN:VEVENT
DTSTART;TZID=Europe/Rome:20241215T180000
DTEND;TZID=Europe/Rome:20241215T193000
DTSTAMP:20260425T171736
CREATED:20240914T165141Z
LAST-MODIFIED:20241114T180838Z
UID:259-1734285600-1734291000@newchambersingers.com
SUMMARY:Nine Lessons and Carols: All Saints: 18:00
DESCRIPTION:As usual\, you are all invited to participate in the annual Christmas Festival of Nine Lessons and Carols.
URL:https://newchambersingers.com/it/event/nine-lessons-and-carols-all-saints-1700/
LOCATION:All Saints Church\, via del Babuino 153\, Roma\, Roma\, Italy
END:VEVENT
BEGIN:VEVENT
DTSTART;TZID=Europe/Rome:20241217T190000
DTEND;TZID=Europe/Rome:20241217T213000
DTSTAMP:20260425T171736
CREATED:20241219T190558Z
LAST-MODIFIED:20241219T190558Z
UID:484-1734462000-1734471000@newchambersingers.com
SUMMARY:Rehearsal and Party
DESCRIPTION:Contenuto protetto.
URL:https://newchambersingers.com/it/event/rehearsal-and-party/
LOCATION:All Saints Church\, via del Babuino 153\, Roma\, Roma\, Italy
CATEGORIES:Rehearsal
END:VEVENT
BEGIN:VEVENT
DTSTART;TZID=Europe/Rome:20250107T190000
DTEND;TZID=Europe/Rome:20250107T213000
DTSTAMP:20260425T171736
CREATED:20241114T182115Z
LAST-MODIFIED:20241114T182115Z
UID:373-1736276400-1736285400@newchambersingers.com
SUMMARY:Rehearsal
DESCRIPTION:Contenuto protetto.
URL:https://newchambersingers.com/it/event/rehearsal-12/
LOCATION:All Saints Church\, via del Babuino 153\, Roma\, Roma\, Italy
CATEGORIES:Rehearsal
END:VEVENT
BEGIN:VEVENT
DTSTART;TZID=Europe/Rome:20250114T190000
DTEND;TZID=Europe/Rome:20250114T213000
DTSTAMP:20260425T171736
CREATED:20241114T182212Z
LAST-MODIFIED:20241219T175933Z
UID:375-1736881200-1736890200@newchambersingers.com
SUMMARY:Rehearsal
DESCRIPTION:Contenuto protetto.
URL:https://newchambersingers.com/it/event/rehearsal-13/
LOCATION:All Saints Church\, via del Babuino 153\, Roma\, Roma\, Italy
CATEGORIES:Rehearsal
END:VEVENT
BEGIN:VEVENT
DTSTART;TZID=Europe/Rome:20250121T190000
DTEND;TZID=Europe/Rome:20250121T213000
DTSTAMP:20260425T171736
CREATED:20241114T182306Z
LAST-MODIFIED:20241219T175854Z
UID:377-1737486000-1737495000@newchambersingers.com
SUMMARY:Rehearsal
DESCRIPTION:Contenuto protetto.
URL:https://newchambersingers.com/it/event/rehearsal-14/
LOCATION:All Saints Church\, via del Babuino 153\, Roma\, Roma\, Italy
CATEGORIES:Rehearsal
END:VEVENT
BEGIN:VEVENT
DTSTART;TZID=Europe/Rome:20250124T160000
DTEND;TZID=Europe/Rome:20250124T170000
DTSTAMP:20260425T171736
CREATED:20241219T175755Z
LAST-MODIFIED:20241219T175755Z
UID:446-1737734400-1737738000@newchambersingers.com
SUMMARY:Rehearsal for service for Bishop Ian Ernest
DESCRIPTION:Contenuto protetto.
URL:https://newchambersingers.com/it/event/rehearsal-for-service-for-bishop-ian-ernest/
LOCATION:Basilica di San Paolo Fuori le Mura\, Piazzale San Paolo\, 1a\, Roma\, RM\, 00146\, Italy
CATEGORIES:Rehearsal
END:VEVENT
BEGIN:VEVENT
DTSTART;TZID=Europe/Rome:20250124T170000
DTEND;TZID=Europe/Rome:20250124T180000
DTSTAMP:20260425T171736
CREATED:20241219T175623Z
LAST-MODIFIED:20241219T175626Z
UID:442-1737738000-1737741600@newchambersingers.com
SUMMARY:Service to mark the departure of Bishop Ian Ernest
DESCRIPTION:
URL:https://newchambersingers.com/it/event/service-to-mark-the-departure-of-bishop-ian-ernest/
LOCATION:Basilica di San Paolo Fuori le Mura\, Piazzale San Paolo\, 1a\, Roma\, RM\, 00146\, Italy
CATEGORIES:Sung Eucharist
END:VEVENT
BEGIN:VEVENT
DTSTART;TZID=Europe/Rome:20250128T190000
DTEND;TZID=Europe/Rome:20250128T213000
DTSTAMP:20260425T171736
CREATED:20241114T192656Z
LAST-MODIFIED:20241114T192656Z
UID:379-1738090800-1738099800@newchambersingers.com
SUMMARY:Rehearsal
DESCRIPTION:Contenuto protetto.
URL:https://newchambersingers.com/it/event/rehearsal-15/
LOCATION:All Saints Church\, via del Babuino 153\, Roma\, Roma\, Italy
CATEGORIES:Rehearsal
END:VEVENT
BEGIN:VEVENT
DTSTART;TZID=Europe/Rome:20250204T190000
DTEND;TZID=Europe/Rome:20250204T213000
DTSTAMP:20260425T171736
CREATED:20241114T192758Z
LAST-MODIFIED:20241114T192758Z
UID:381-1738695600-1738704600@newchambersingers.com
SUMMARY:Rehearsal
DESCRIPTION:Contenuto protetto.
URL:https://newchambersingers.com/it/event/rehearsal-16/
LOCATION:All Saints Church\, via del Babuino 153\, Roma\, Roma\, Italy
CATEGORIES:Rehearsal
END:VEVENT
BEGIN:VEVENT
DTSTART;TZID=Europe/Rome:20250211T190000
DTEND;TZID=Europe/Rome:20250211T213000
DTSTAMP:20260425T171736
CREATED:20241114T192851Z
LAST-MODIFIED:20241219T174708Z
UID:383-1739300400-1739309400@newchambersingers.com
SUMMARY:Rehearsal
DESCRIPTION:Contenuto protetto.
URL:https://newchambersingers.com/it/event/rehearsal-17/
LOCATION:All Saints Church\, via del Babuino 153\, Roma\, Roma\, Italy
CATEGORIES:Rehearsal
END:VEVENT
BEGIN:VEVENT
DTSTART;TZID=Europe/Rome:20250215T100000
DTEND;TZID=Europe/Rome:20250215T140000
DTSTAMP:20260425T171736
CREATED:20241219T174332Z
LAST-MODIFIED:20241219T174332Z
UID:440-1739613600-1739628000@newchambersingers.com
SUMMARY:Saturday Workshop
DESCRIPTION:Contenuto protetto.
URL:https://newchambersingers.com/it/event/saturday-workshop/
LOCATION:All Saints Church\, via del Babuino 153\, Roma\, Roma\, Italy
CATEGORIES:Rehearsal
END:VEVENT
BEGIN:VEVENT
DTSTART;TZID=Europe/Rome:20250218T190000
DTEND;TZID=Europe/Rome:20250218T213000
DTSTAMP:20260425T171736
CREATED:20241114T193003Z
LAST-MODIFIED:20241219T174641Z
UID:386-1739905200-1739914200@newchambersingers.com
SUMMARY:Rehearsal
DESCRIPTION:Contenuto protetto.
URL:https://newchambersingers.com/it/event/rehearsal-18/
LOCATION:All Saints Church\, via del Babuino 153\, Roma\, Roma\, Italy
CATEGORIES:Rehearsal
END:VEVENT
BEGIN:VEVENT
DTSTART;TZID=Europe/Rome:20250225T190000
DTEND;TZID=Europe/Rome:20250225T213000
DTSTAMP:20260425T171736
CREATED:20241114T193058Z
LAST-MODIFIED:20241114T193058Z
UID:388-1740510000-1740519000@newchambersingers.com
SUMMARY:Rehearsal
DESCRIPTION:Contenuto protetto.
URL:https://newchambersingers.com/it/event/rehearsal-19/
LOCATION:All Saints Church\, via del Babuino 153\, Roma\, Roma\, Italy
CATEGORIES:Rehearsal
END:VEVENT
BEGIN:VEVENT
DTSTART;TZID=Europe/Rome:20250304T190000
DTEND;TZID=Europe/Rome:20250304T213000
DTSTAMP:20260425T171736
CREATED:20241114T193148Z
LAST-MODIFIED:20241114T193148Z
UID:390-1741114800-1741123800@newchambersingers.com
SUMMARY:Rehearsal
DESCRIPTION:Contenuto protetto.
URL:https://newchambersingers.com/it/event/rehearsal-20/
LOCATION:All Saints Church\, via del Babuino 153\, Roma\, Roma\, Italy
CATEGORIES:Rehearsal
END:VEVENT
BEGIN:VEVENT
DTSTART;TZID=Europe/Rome:20250308T150000
DTEND;TZID=Europe/Rome:20250308T170000
DTSTAMP:20260425T171736
CREATED:20250301T145833Z
LAST-MODIFIED:20250301T145833Z
UID:528-1741446000-1741453200@newchambersingers.com
SUMMARY:Rehearsal/Workshop
DESCRIPTION:Contenuto protetto.
URL:https://newchambersingers.com/it/event/rehearsal-workshop/
LOCATION:All Saints Church\, via del Babuino 153\, Roma\, Roma\, Italy
CATEGORIES:Rehearsal
END:VEVENT
BEGIN:VEVENT
DTSTART;TZID=Europe/Rome:20250311T190000
DTEND;TZID=Europe/Rome:20250311T213000
DTSTAMP:20260425T171736
CREATED:20241114T193234Z
LAST-MODIFIED:20241219T174023Z
UID:392-1741719600-1741728600@newchambersingers.com
SUMMARY:Rehearsal
DESCRIPTION:Contenuto protetto.
URL:https://newchambersingers.com/it/event/rehearsal-21/
LOCATION:All Saints Church\, via del Babuino 153\, Roma\, Roma\, Italy
CATEGORIES:Rehearsal
END:VEVENT
END:VCALENDAR