BEGIN:VCALENDAR
VERSION:2.0
PRODID:-//New Chamber Singers - ECPv6.15.20//NONSGML v1.0//EN
CALSCALE:GREGORIAN
METHOD:PUBLISH
X-ORIGINAL-URL:https://newchambersingers.com/en
X-WR-CALDESC:Events for New Chamber Singers
REFRESH-INTERVAL;VALUE=DURATION:PT1H
X-Robots-Tag:noindex
X-PUBLISHED-TTL:PT1H
BEGIN:VTIMEZONE
TZID:Europe/Rome
BEGIN:DAYLIGHT
TZOFFSETFROM:+0100
TZOFFSETTO:+0200
TZNAME:CEST
DTSTART:20230326T010000
END:DAYLIGHT
BEGIN:STANDARD
TZOFFSETFROM:+0200
TZOFFSETTO:+0100
TZNAME:CET
DTSTART:20231029T010000
END:STANDARD
BEGIN:DAYLIGHT
TZOFFSETFROM:+0100
TZOFFSETTO:+0200
TZNAME:CEST
DTSTART:20240331T010000
END:DAYLIGHT
BEGIN:STANDARD
TZOFFSETFROM:+0200
TZOFFSETTO:+0100
TZNAME:CET
DTSTART:20241027T010000
END:STANDARD
BEGIN:DAYLIGHT
TZOFFSETFROM:+0100
TZOFFSETTO:+0200
TZNAME:CEST
DTSTART:20250330T010000
END:DAYLIGHT
BEGIN:STANDARD
TZOFFSETFROM:+0200
TZOFFSETTO:+0100
TZNAME:CET
DTSTART:20251026T010000
END:STANDARD
BEGIN:DAYLIGHT
TZOFFSETFROM:+0100
TZOFFSETTO:+0200
TZNAME:CEST
DTSTART:20260329T010000
END:DAYLIGHT
BEGIN:STANDARD
TZOFFSETFROM:+0200
TZOFFSETTO:+0100
TZNAME:CET
DTSTART:20261025T010000
END:STANDARD
BEGIN:DAYLIGHT
TZOFFSETFROM:+0100
TZOFFSETTO:+0200
TZNAME:CEST
DTSTART:20270328T010000
END:DAYLIGHT
BEGIN:STANDARD
TZOFFSETFROM:+0200
TZOFFSETTO:+0100
TZNAME:CET
DTSTART:20271031T010000
END:STANDARD
END:VTIMEZONE
BEGIN:VEVENT
DTSTART;TZID=Europe/Rome:20260123T180000
DTEND;TZID=Europe/Rome:20260123T190000
DTSTAMP:20260423T182252
CREATED:20260103T152138Z
LAST-MODIFIED:20260103T152138Z
UID:1190-1769191200-1769194800@newchambersingers.com
SUMMARY:Evensong at Basilica San Paolo
DESCRIPTION:
URL:https://newchambersingers.com/en/event/evensong-at-basilica-san-paolo/
LOCATION:Basilica di San Paolo Fuori le Mura\, Piazzale San Paolo\, 1a\, Roma\, RM\, 00146\, Italy
CATEGORIES:Sung Eucharist
END:VEVENT
BEGIN:VEVENT
DTSTART;TZID=Europe/Rome:20250601T090000
DTEND;TZID=Europe/Rome:20250601T120000
DTSTAMP:20260423T182252
CREATED:20250115T100138Z
LAST-MODIFIED:20250115T100140Z
UID:488-1748768400-1748779200@newchambersingers.com
SUMMARY:Holy Communion at All Saints
DESCRIPTION:Ex Collegio will sing the mass. They will announce the music soon. NCS members who know the music are invited to join them.
URL:https://newchambersingers.com/en/event/holy-communion-at-all-saints/
LOCATION:All Saints Church\, via del Babuino 153\, Roma\, Roma\, Italy
CATEGORIES:Sung Eucharist
END:VEVENT
BEGIN:VEVENT
DTSTART;TZID=Europe/Rome:20250124T170000
DTEND;TZID=Europe/Rome:20250124T180000
DTSTAMP:20260423T182252
CREATED:20241219T175623Z
LAST-MODIFIED:20241219T175626Z
UID:442-1737738000-1737741600@newchambersingers.com
SUMMARY:Service to mark the departure of Bishop Ian Ernest
DESCRIPTION:
URL:https://newchambersingers.com/en/event/service-to-mark-the-departure-of-bishop-ian-ernest/
LOCATION:Basilica di San Paolo Fuori le Mura\, Piazzale San Paolo\, 1a\, Roma\, RM\, 00146\, Italy
CATEGORIES:Sung Eucharist
END:VEVENT
BEGIN:VEVENT
DTSTART;TZID=Europe/Rome:20241208T103000
DTEND;TZID=Europe/Rome:20241208T120000
DTSTAMP:20260423T182252
CREATED:20240905T202010Z
LAST-MODIFIED:20241114T180954Z
UID:172-1733653800-1733659200@newchambersingers.com
SUMMARY:Holy Communion: St. Paul's: 10:30
DESCRIPTION:
URL:https://newchambersingers.com/en/event/holy-communion-1030/
LOCATION:St Paul’s Within the Walls
CATEGORIES:Sung Eucharist
END:VEVENT
BEGIN:VEVENT
DTSTART;TZID=Europe/Rome:20241110T093000
DTEND;TZID=Europe/Rome:20241110T120000
DTSTAMP:20260423T182252
CREATED:20240905T201016Z
LAST-MODIFIED:20240914T145828Z
UID:153-1731231000-1731240000@newchambersingers.com
SUMMARY:Remembrance Sunday: All Saints: 10:30
DESCRIPTION:
URL:https://newchambersingers.com/en/event/holy-communion/
LOCATION:All Saints Church\, via del Babuino 153\, Roma\, Roma\, Italy
CATEGORIES:Sung Eucharist
END:VEVENT
BEGIN:VEVENT
DTSTART;TZID=Europe/Rome:20241103T103000
DTEND;TZID=Europe/Rome:20241103T120000
DTSTAMP:20260423T182252
CREATED:20240919T103955Z
LAST-MODIFIED:20240919T104000Z
UID:310-1730629800-1730635200@newchambersingers.com
SUMMARY:Holy Communion: All Saints: 10:30
DESCRIPTION:Members of the choir will join the church choir to celebrate All Saints day.
URL:https://newchambersingers.com/en/event/holy-communion-all-saints-1030-2/
LOCATION:All Saints Church\, via del Babuino 153\, Roma\, Roma\, Italy
CATEGORIES:Sung Eucharist
END:VEVENT
BEGIN:VEVENT
DTSTART;TZID=Europe/Rome:20240929T093000
DTEND;TZID=Europe/Rome:20240929T120000
DTSTAMP:20260423T182252
CREATED:20240914T150259Z
LAST-MODIFIED:20240914T150300Z
UID:257-1727602200-1727611200@newchambersingers.com
SUMMARY:Holy Communion: All Saints: 10:30
DESCRIPTION:The music will be a Healey Willan unison mass and an anthem chosen by the church.
URL:https://newchambersingers.com/en/event/holy-communion-all-saints-1030/
LOCATION:Roma
CATEGORIES:Sung Eucharist
END:VEVENT
END:VCALENDAR