BEGIN:VCALENDAR
VERSION:2.0
PRODID:-//New Chamber Singers - ECPv6.15.20//NONSGML v1.0//EN
CALSCALE:GREGORIAN
METHOD:PUBLISH
X-ORIGINAL-URL:https://newchambersingers.com/en
X-WR-CALDESC:Events for New Chamber Singers
REFRESH-INTERVAL;VALUE=DURATION:PT1H
X-Robots-Tag:noindex
X-PUBLISHED-TTL:PT1H
BEGIN:VTIMEZONE
TZID:Europe/Rome
BEGIN:DAYLIGHT
TZOFFSETFROM:+0100
TZOFFSETTO:+0200
TZNAME:CEST
DTSTART:20250330T010000
END:DAYLIGHT
BEGIN:STANDARD
TZOFFSETFROM:+0200
TZOFFSETTO:+0100
TZNAME:CET
DTSTART:20251026T010000
END:STANDARD
BEGIN:DAYLIGHT
TZOFFSETFROM:+0100
TZOFFSETTO:+0200
TZNAME:CEST
DTSTART:20260329T010000
END:DAYLIGHT
BEGIN:STANDARD
TZOFFSETFROM:+0200
TZOFFSETTO:+0100
TZNAME:CET
DTSTART:20261025T010000
END:STANDARD
BEGIN:DAYLIGHT
TZOFFSETFROM:+0100
TZOFFSETTO:+0200
TZNAME:CEST
DTSTART:20270328T010000
END:DAYLIGHT
BEGIN:STANDARD
TZOFFSETFROM:+0200
TZOFFSETTO:+0100
TZNAME:CET
DTSTART:20271031T010000
END:STANDARD
END:VTIMEZONE
BEGIN:VEVENT
DTSTART;TZID=Europe/Rome:20260426T103000
DTEND;TZID=Europe/Rome:20260426T120000
DTSTAMP:20260423T195212
CREATED:20260402T152523Z
LAST-MODIFIED:20260402T152608Z
UID:1391-1777199400-1777204800@newchambersingers.com
SUMMARY:Holy Communion at All Saints in the presence of the Archbishop of Canterbury
DESCRIPTION:Holy Communion \n\nMass setting: Addington\nPsalm of the day\nAnthem: O Pray for the Peace of Jerusalem\, Herbert Howells (1892 – 1983)\nHymns (still to be determined)
URL:https://newchambersingers.com/en/event/holy-communion-at-all-saints-2/
LOCATION:All Saints Church\, via del Babuino 153\, Roma\, Roma\, Italy
CATEGORIES:Sung Eucharist
END:VEVENT
END:VCALENDAR